BEGIN:VCALENDAR
VERSION:2.0
PRODID:-//Son Antem Golf Mallorca - ECPv6.15.20//NONSGML v1.0//EN
CALSCALE:GREGORIAN
METHOD:PUBLISH
X-ORIGINAL-URL:https://www.sonantemgolf.com
X-WR-CALDESC:Events for Son Antem Golf Mallorca
REFRESH-INTERVAL;VALUE=DURATION:PT1H
X-Robots-Tag:noindex
X-PUBLISHED-TTL:PT1H
BEGIN:VTIMEZONE
TZID:UTC
BEGIN:STANDARD
TZOFFSETFROM:+0000
TZOFFSETTO:+0000
TZNAME:UTC
DTSTART:20230101T000000
END:STANDARD
END:VTIMEZONE
BEGIN:VEVENT
DTSTART;TZID=UTC:20240601T090000
DTEND;TZID=UTC:20240601T150000
DTSTAMP:20260425T160428
CREATED:20231123T131517Z
LAST-MODIFIED:20240531T072935Z
UID:4855-1717232400-1717254000@www.sonantemgolf.com
SUMMARY:IV prueba Liga Social 2024 by mahou/san miguel
DESCRIPTION:
URL:https://www.sonantemgolf.com/event/iv-prueba-liga-social-2023-by-mahou-san-miguel/
LOCATION:Golf Son Antem – Este\, Ctra MA19\, Salida 20\, Llucmajor\, Mallorca\, Balears\, 07620
END:VEVENT
END:VCALENDAR